BEGIN:VCALENDAR
VERSION:2.0
PRODID:-//Kościół rektoralny św. Piotra Apostoła w Lublinie - ECPv4.1.2//NONSGML v1.0//EN
CALSCALE:GREGORIAN
METHOD:PUBLISH
X-WR-CALNAME:Kościół rektoralny św. Piotra Apostoła w Lublinie
X-ORIGINAL-URL:https://swpiotr.lublin.pl
X-WR-CALDESC:Events for Kościół rektoralny św. Piotra Apostoła w Lublinie
BEGIN:VEVENT
DTSTART;TZID=Europe/Warsaw:20250627T160000
DTEND;TZID=Europe/Warsaw:20250629T200000
DTSTAMP:20260419T125440
CREATED:20250628T201254
LAST-MODIFIED:20250628T201255
UID:5227-1751040000-1751227200@swpiotr.lublin.pl
SUMMARY:Zaproszenie na Koncert Finałowy Warsztatów Gospel\, Zespołu Dwie Drogi z Moniką Kuszyńską – Lublin\, 29 czerwca 2025 r.
DESCRIPTION:Zaproszenie na Koncert Finałowy Warsztatów Gospel z Moniką Kuszyńską – Lublin\, 29 czerwca 2025 r.\n\nKochani\,\n\nserdecznie zapraszamy was do udziału w wyjątkowym wydarzeniu muzycznym – Koncercie Finałowym Warsztatów Gospel\, który odbędzie się 29 czerwca 2025 roku o godz. 19:00 w Kościele Rektoralnym Św. Piotra Apostoła w Lublinie (ul. Królewska 9).\n\nFinałowy występ będzie zwieńczeniem trzydniowych Warsztatów Gospel – pełnych pasji\, integracji i duchowej głębi spotkań wokalnych\, które odbędą się w dniach 27–29 czerwca 2025 roku. W warsztatach bierze udział 30 uczestników\, w tym osoby z niepełnosprawnościami – co czyni to wydarzenie wyjątkową przestrzenią otwartości i twórczej współpracy ponad barierami.\n\nKoncert poprowadzą uczestnicy warsztatów pod kierunkiem duetu Sylwia i Jakub Piotrowscy oraz gościa specjalnego – Moniki Kuszyńskiej\, artystki znanej z przejmujących tekstów\, niepowtarzalnej wrażliwości i niezłomnej postawy wobec życiowych trudności. Obecność Moniki Kuszyńskiej nada wydarzeniu nie tylko wyjątkową oprawę muzyczną\, ale także głębokie znaczenie – pokazując\, że muzyka naprawdę łączy i dodaje sił.\n\nW trakcie koncertu usłyszymy również zespół Dwie Drogi – chrześcijańską grupę muzyczną z Lublina\, znaną z tworzenia przestrzeni duchowego spotkania poprzez muzykę i wspólnotę.\n\nWydarzenie ma charakter otwarty – zapraszamy mieszkańców\, sympatyków muzyki gospel oraz wszystkich\, którzy chcą doświadczyć poruszającego koncertu pełnego wiary\, nadziei i integracji.\n\nWstęp wolny.\nProjekt współfinansowany ze środków Województwa Lubelskiego.\n\nLiczymy na Waszą obecność i zachęcamy do relacjonowania tego niecodziennego wydarzenia.\n\nZ serdecznymi pozdrowieniami\,\nOrganizatorzy Warsztatów Gospel 2025
URL:https://swpiotr.lublin.pl/wydarzenie/zaproszenie-na-koncert-finalowy-warsztatow-gospel-zespolu-dwie-drogi-z-monika-kuszynska-lublin-29-czerwca-2025-r/
LOCATION:Królewska 9\, Lublin\, lubelskie\, 20-109\, Polska
CATEGORIES:Wydarzenia
ATTACH;FMTTYPE=image/png:https://swpiotr.lublin.pl/wp-content/uploads/2025/06/plakat-nowy.png
END:VEVENT
END:VCALENDAR