BEGIN:VCALENDAR
VERSION:2.0
PRODID:-//Kościół rektoralny św. Piotra Apostoła w Lublinie - ECPv4.1.2//NONSGML v1.0//EN
CALSCALE:GREGORIAN
METHOD:PUBLISH
X-WR-CALNAME:Kościół rektoralny św. Piotra Apostoła w Lublinie
X-ORIGINAL-URL:https://swpiotr.lublin.pl
X-WR-CALDESC:Events for Kościół rektoralny św. Piotra Apostoła w Lublinie
BEGIN:VEVENT
DTSTART;TZID=Europe/Warsaw:20220123T150000
DTEND;TZID=Europe/Warsaw:20220123T170000
DTSTAMP:20260423T114347
CREATED:20220116T091706
LAST-MODIFIED:20220116T091706
UID:3930-1642950000-1642957200@swpiotr.lublin.pl
SUMMARY:Koncert kolęd i pastorałek Męskiego Zespołu Wokalnego KAIROS
DESCRIPTION:W niedzielę 23 stycznia\, po mszy świętej o godz. 15.00\, wystąpi Męski Zespół Wokalny KAIROS z koncertem kolęd i pastorałek.\n\nZapraszamy :)\n\n \n\np.s.\n\nhttps://www.youtube.com/watch?v=mxaRFeF2bH0
URL:https://swpiotr.lublin.pl/wydarzenie/koncert-koled-i-pastoralek-meskiego-zespolu-wokalnego-kairos/
LOCATION:Królewska 9\, Lublin\, lubelskie\, 20-109\, Polska
CATEGORIES:Wydarzenia
ATTACH;FMTTYPE=image/jpeg:https://swpiotr.lublin.pl/wp-content/uploads/2022/01/Kairos.jpg
END:VEVENT
END:VCALENDAR