BEGIN:VCALENDAR
VERSION:2.0
PRODID:-//Kościół rektoralny św. Piotra Apostoła w Lublinie - ECPv4.1.2//NONSGML v1.0//EN
CALSCALE:GREGORIAN
METHOD:PUBLISH
X-WR-CALNAME:Kościół rektoralny św. Piotra Apostoła w Lublinie
X-ORIGINAL-URL:https://swpiotr.lublin.pl
X-WR-CALDESC:Events for Kościół rektoralny św. Piotra Apostoła w Lublinie
BEGIN:VEVENT
DTSTART;TZID=Europe/Warsaw:20251012T190000
DTEND;TZID=Europe/Warsaw:20251130T200000
DTSTAMP:20260419T130052
CREATED:20211011T190846
LAST-MODIFIED:20251007T202748
UID:3866-1760295600-1764532800@swpiotr.lublin.pl
SUMMARY:Katechezy dla dorosłych i młodzieży.
DESCRIPTION:Zapraszamy\, od 12 października 2025 r. o godz. 19.00\, a następnie 15 katechez w poniedziałki i czwartki o godz. 19.00\n\n
URL:https://swpiotr.lublin.pl/wydarzenie/katechezy-dla-doroslych-i-mlodziezy/
LOCATION:Królewska 9\, Lublin\, lubelskie\, 20-109\, Polska
CATEGORIES:Nabożeństwa,Wydarzenia
ATTACH;FMTTYPE=image/jpeg:https://swpiotr.lublin.pl/wp-content/uploads/2021/10/PLAKAT.jpg
END:VEVENT
END:VCALENDAR